BEGIN:VCALENDAR
VERSION:2.0
PRODID:-//Orienteringsskytte - ECPv6.15.8//NONSGML v1.0//EN
CALSCALE:GREGORIAN
METHOD:PUBLISH
X-WR-CALNAME:Orienteringsskytte
X-ORIGINAL-URL:https://orienteringsskytte.mangkampsforbundet.se
X-WR-CALDESC:Events for Orienteringsskytte
REFRESH-INTERVAL;VALUE=DURATION:PT1H
X-Robots-Tag:noindex
X-PUBLISHED-TTL:PT1H
BEGIN:VTIMEZONE
TZID:Europe/Stockholm
BEGIN:DAYLIGHT
TZOFFSETFROM:+0100
TZOFFSETTO:+0200
TZNAME:CEST
DTSTART:20240331T010000
END:DAYLIGHT
BEGIN:STANDARD
TZOFFSETFROM:+0200
TZOFFSETTO:+0100
TZNAME:CET
DTSTART:20241027T010000
END:STANDARD
BEGIN:DAYLIGHT
TZOFFSETFROM:+0100
TZOFFSETTO:+0200
TZNAME:CEST
DTSTART:20250330T010000
END:DAYLIGHT
BEGIN:STANDARD
TZOFFSETFROM:+0200
TZOFFSETTO:+0100
TZNAME:CET
DTSTART:20251026T010000
END:STANDARD
BEGIN:DAYLIGHT
TZOFFSETFROM:+0100
TZOFFSETTO:+0200
TZNAME:CEST
DTSTART:20260329T010000
END:DAYLIGHT
BEGIN:STANDARD
TZOFFSETFROM:+0200
TZOFFSETTO:+0100
TZNAME:CET
DTSTART:20261025T010000
END:STANDARD
END:VTIMEZONE
BEGIN:VEVENT
DTSTART;TZID=Europe/Stockholm:20250614T120000
DTEND;TZID=Europe/Stockholm:20250619T120000
DTSTAMP:20260420T164835
CREATED:20250507T190014Z
LAST-MODIFIED:20250507T190015Z
UID:2256-1749902400-1750334400@orienteringsskytte.mangkampsforbundet.se
SUMMARY:OL skytte Camp 2025
DESCRIPTION:Under en vecka 14-19 juni i Falun arrangeras ett läger för nybörjare och övriga som vill förbättra sin förmåga inom OL skytte. Kontaktperson Hans Mandahl. Inbjudan finns på hemsidan.
URL:https://orienteringsskytte.mangkampsforbundet.se/kalender/ol-skytte-camp-2025/
END:VEVENT
END:VCALENDAR