BEGIN:VCALENDAR
VERSION:2.0
PRODID:-//Orienteringsskytte - ECPv6.15.8//NONSGML v1.0//EN
CALSCALE:GREGORIAN
METHOD:PUBLISH
X-WR-CALNAME:Orienteringsskytte
X-ORIGINAL-URL:https://orienteringsskytte.mangkampsforbundet.se
X-WR-CALDESC:Events for Orienteringsskytte
REFRESH-INTERVAL;VALUE=DURATION:PT1H
X-Robots-Tag:noindex
X-PUBLISHED-TTL:PT1H
BEGIN:VTIMEZONE
TZID:Europe/Stockholm
BEGIN:DAYLIGHT
TZOFFSETFROM:+0100
TZOFFSETTO:+0200
TZNAME:CEST
DTSTART:20250330T010000
END:DAYLIGHT
BEGIN:STANDARD
TZOFFSETFROM:+0200
TZOFFSETTO:+0100
TZNAME:CET
DTSTART:20251026T010000
END:STANDARD
BEGIN:DAYLIGHT
TZOFFSETFROM:+0100
TZOFFSETTO:+0200
TZNAME:CEST
DTSTART:20260329T010000
END:DAYLIGHT
BEGIN:STANDARD
TZOFFSETFROM:+0200
TZOFFSETTO:+0100
TZNAME:CET
DTSTART:20261025T010000
END:STANDARD
BEGIN:DAYLIGHT
TZOFFSETFROM:+0100
TZOFFSETTO:+0200
TZNAME:CEST
DTSTART:20270328T010000
END:DAYLIGHT
BEGIN:STANDARD
TZOFFSETFROM:+0200
TZOFFSETTO:+0100
TZNAME:CET
DTSTART:20271031T010000
END:STANDARD
END:VTIMEZONE
BEGIN:VEVENT
DTSTART;TZID=Europe/Stockholm:20260530T090000
DTEND;TZID=Europe/Stockholm:20260531T130000
DTSTAMP:20260422T020909
CREATED:20260120T142318Z
LAST-MODIFIED:20260310T091957Z
UID:2651-1780131600-1780232400@orienteringsskytte.mangkampsforbundet.se
SUMMARY:WC Klassisk distans & SM Sprint\, Stockholm
DESCRIPTION:Klassisk distans (lördag) och SM Sprint (söndag). WC #3 och WC #4\, SC #3 och SC #4. \n\n\n\nMilitärlandskamp lördag – söndag. \n\n\n\nPlats: Stockholm\, Sverige. \n\n\n\nArrangör: IFK Tumba SOK
URL:https://orienteringsskytte.mangkampsforbundet.se/kalender/wc-klassisk-distans-sm-sprint/
END:VEVENT
END:VCALENDAR