BEGIN:VCALENDAR
VERSION:2.0
PRODID:-//Orienteringsskytte - ECPv6.15.8//NONSGML v1.0//EN
CALSCALE:GREGORIAN
METHOD:PUBLISH
X-ORIGINAL-URL:https://orienteringsskytte.mangkampsforbundet.se
X-WR-CALDESC:Events for Orienteringsskytte
REFRESH-INTERVAL;VALUE=DURATION:PT1H
X-Robots-Tag:noindex
X-PUBLISHED-TTL:PT1H
BEGIN:VTIMEZONE
TZID:Europe/Stockholm
BEGIN:DAYLIGHT
TZOFFSETFROM:+0100
TZOFFSETTO:+0200
TZNAME:CEST
DTSTART:20250330T010000
END:DAYLIGHT
BEGIN:STANDARD
TZOFFSETFROM:+0200
TZOFFSETTO:+0100
TZNAME:CET
DTSTART:20251026T010000
END:STANDARD
BEGIN:DAYLIGHT
TZOFFSETFROM:+0100
TZOFFSETTO:+0200
TZNAME:CEST
DTSTART:20260329T010000
END:DAYLIGHT
BEGIN:STANDARD
TZOFFSETFROM:+0200
TZOFFSETTO:+0100
TZNAME:CET
DTSTART:20261025T010000
END:STANDARD
BEGIN:DAYLIGHT
TZOFFSETFROM:+0100
TZOFFSETTO:+0200
TZNAME:CEST
DTSTART:20270328T010000
END:DAYLIGHT
BEGIN:STANDARD
TZOFFSETFROM:+0200
TZOFFSETTO:+0100
TZNAME:CET
DTSTART:20271031T010000
END:STANDARD
END:VTIMEZONE
BEGIN:VEVENT
DTSTART;TZID=Europe/Stockholm:20260711T090000
DTEND;TZID=Europe/Stockholm:20260712T140000
DTSTAMP:20260423T000108
CREATED:20260120T143323Z
LAST-MODIFIED:20260130T110937Z
UID:2659-1783760400-1783864800@orienteringsskytte.mangkampsforbundet.se
SUMMARY:WC Masstart och Sprint\, Kärkölä\, Finland
DESCRIPTION:Finska Mästerskapet Masstart (lördag) och Sprint (söndag). WC #7 och #8\, LC #7 och #8. \n\n\n\nPlats: Kärkölä\, Finland
URL:https://orienteringsskytte.mangkampsforbundet.se/kalender/wc-masstart-och-sprint/
END:VEVENT
BEGIN:VEVENT
DTSTART;TZID=Europe/Stockholm:20260806T120000
DTEND;TZID=Europe/Stockholm:20260809T140000
DTSTAMP:20260423T000108
CREATED:20260120T143656Z
LAST-MODIFIED:20260130T111146Z
UID:2661-1786017600-1786284000@orienteringsskytte.mangkampsforbundet.se
SUMMARY:WBOC 2026\, Sweden\, Borås
DESCRIPTION:World Biathlon Orienteering Championships\, Borås\, Sverige \n\n\n\n Träning torsdag \n\n\n\nFredag Klassisk distans\, WC #9 \n\n\n\nLördag Sprint\, WC #10 \n\n\n\nSöndag Stafett
URL:https://orienteringsskytte.mangkampsforbundet.se/kalender/wboc-2026/
END:VEVENT
BEGIN:VEVENT
DTSTART;TZID=Europe/Stockholm:20260926T090000
DTEND;TZID=Europe/Stockholm:20260927T140000
DTSTAMP:20260423T000108
CREATED:20260120T144112Z
LAST-MODIFIED:20260130T111427Z
UID:2665-1790413200-1790517600@orienteringsskytte.mangkampsforbundet.se
SUMMARY:SM Masstart & Sprint\, Ätran
DESCRIPTION:SM Masstart (lördag) och Sprint (söndag). SC #5 och #6. \n\n\n\nPlats: Ätran\, Sverige
URL:https://orienteringsskytte.mangkampsforbundet.se/kalender/prel-sm-masstart-sprint/
END:VEVENT
BEGIN:VEVENT
DTSTART;TZID=Europe/Stockholm:20261031T090000
DTEND;TZID=Europe/Stockholm:20261101T140000
DTSTAMP:20260423T000108
CREATED:20260120T143912Z
LAST-MODIFIED:20260130T112817Z
UID:2663-1793437200-1793541600@orienteringsskytte.mangkampsforbundet.se
SUMMARY:WC Klassisk distans & Sprint\, Danmark
DESCRIPTION:Klassisk distans och Sprint. WC #11 och #12\, DC # och #. \n\n\n\nPlats: Danmark
URL:https://orienteringsskytte.mangkampsforbundet.se/kalender/wc-klassisk-distans-sprint-2/
END:VEVENT
END:VCALENDAR