BEGIN:VCALENDAR
VERSION:2.0
PRODID:-//Orienteringsskytte - ECPv6.15.8//NONSGML v1.0//EN
CALSCALE:GREGORIAN
METHOD:PUBLISH
X-WR-CALNAME:Orienteringsskytte
X-ORIGINAL-URL:https://orienteringsskytte.mangkampsforbundet.se
X-WR-CALDESC:Events for Orienteringsskytte
REFRESH-INTERVAL;VALUE=DURATION:PT1H
X-Robots-Tag:noindex
X-PUBLISHED-TTL:PT1H
BEGIN:VTIMEZONE
TZID:Europe/Stockholm
BEGIN:DAYLIGHT
TZOFFSETFROM:+0100
TZOFFSETTO:+0200
TZNAME:CEST
DTSTART:20240331T010000
END:DAYLIGHT
BEGIN:STANDARD
TZOFFSETFROM:+0200
TZOFFSETTO:+0100
TZNAME:CET
DTSTART:20241027T010000
END:STANDARD
BEGIN:DAYLIGHT
TZOFFSETFROM:+0100
TZOFFSETTO:+0200
TZNAME:CEST
DTSTART:20250330T010000
END:DAYLIGHT
BEGIN:STANDARD
TZOFFSETFROM:+0200
TZOFFSETTO:+0100
TZNAME:CET
DTSTART:20251026T010000
END:STANDARD
BEGIN:DAYLIGHT
TZOFFSETFROM:+0100
TZOFFSETTO:+0200
TZNAME:CEST
DTSTART:20260329T010000
END:DAYLIGHT
BEGIN:STANDARD
TZOFFSETFROM:+0200
TZOFFSETTO:+0100
TZNAME:CET
DTSTART:20261025T010000
END:STANDARD
END:VTIMEZONE
BEGIN:VEVENT
DTSTART;TZID=Europe/Stockholm:20250513T190000
DTEND;TZID=Europe/Stockholm:20250513T200000
DTSTAMP:20260420T091034
CREATED:20250507T080712Z
LAST-MODIFIED:20250507T080714Z
UID:2226-1747162800-1747166400@orienteringsskytte.mangkampsforbundet.se
SUMMARY:OL teknik teamsmöte
DESCRIPTION:Teamsmöte OL teknik inför VM i Finland. Johan Runesson delar med sig av sina erfarenheter.Anmälan till bamseborg@yahoo.se senast lördag 10 maj.
URL:https://orienteringsskytte.mangkampsforbundet.se/kalender/ol-teknik-teamsmote/
END:VEVENT
BEGIN:VEVENT
DTSTART;TZID=Europe/Stockholm:20250517T090000
DTEND;TZID=Europe/Stockholm:20250518T130000
DTSTAMP:20260420T091034
CREATED:20250507T082743Z
LAST-MODIFIED:20250507T083326Z
UID:2228-1747472400-1747573200@orienteringsskytte.mangkampsforbundet.se
SUMMARY:World Cup & Lapua Cup
DESCRIPTION:Tävlingar i Larsmo Finland. Lördag sprint WC#1 LP#1 och söndag masstart WC#2 LP#2.
URL:https://orienteringsskytte.mangkampsforbundet.se/kalender/world-cup-lapua-cup/
END:VEVENT
BEGIN:VEVENT
DTSTART;TZID=Europe/Stockholm:20250524T090000
DTEND;TZID=Europe/Stockholm:20250525T130000
DTSTAMP:20260420T091034
CREATED:20250507T083055Z
LAST-MODIFIED:20250507T083057Z
UID:2230-1748077200-1748178000@orienteringsskytte.mangkampsforbundet.se
SUMMARY:World Cup Swedish Cup SM
DESCRIPTION:Tävlingar I Göteborg.Lördag Klassisk distans WC#3 SC#1 SMSöndag Sprint WC#4 SC#2
URL:https://orienteringsskytte.mangkampsforbundet.se/kalender/world-cup-swedish-cup-sm/
END:VEVENT
BEGIN:VEVENT
DTSTART;TZID=Europe/Stockholm:20250528T080000
DTEND;TZID=Europe/Stockholm:20250528T170000
DTSTAMP:20260420T091034
CREATED:20250507T083517Z
LAST-MODIFIED:20250507T090509Z
UID:2233-1748419200-1748451600@orienteringsskytte.mangkampsforbundet.se
SUMMARY:Sprint tävling
DESCRIPTION:Sprint tävling i Hedenäset.Mer info på Eventor. Kontaktperson Pernilla Sirviö.
URL:https://orienteringsskytte.mangkampsforbundet.se/kalender/sprint-tavling/
END:VEVENT
END:VCALENDAR