BEGIN:VCALENDAR
VERSION:2.0
PRODID:-//Orienteringsskytte - ECPv6.15.8//NONSGML v1.0//EN
CALSCALE:GREGORIAN
METHOD:PUBLISH
X-ORIGINAL-URL:https://orienteringsskytte.mangkampsforbundet.se
X-WR-CALDESC:Events for Orienteringsskytte
REFRESH-INTERVAL;VALUE=DURATION:PT1H
X-Robots-Tag:noindex
X-PUBLISHED-TTL:PT1H
BEGIN:VTIMEZONE
TZID:Europe/Stockholm
BEGIN:DAYLIGHT
TZOFFSETFROM:+0100
TZOFFSETTO:+0200
TZNAME:CEST
DTSTART:20240331T010000
END:DAYLIGHT
BEGIN:STANDARD
TZOFFSETFROM:+0200
TZOFFSETTO:+0100
TZNAME:CET
DTSTART:20241027T010000
END:STANDARD
BEGIN:DAYLIGHT
TZOFFSETFROM:+0100
TZOFFSETTO:+0200
TZNAME:CEST
DTSTART:20250330T010000
END:DAYLIGHT
BEGIN:STANDARD
TZOFFSETFROM:+0200
TZOFFSETTO:+0100
TZNAME:CET
DTSTART:20251026T010000
END:STANDARD
BEGIN:DAYLIGHT
TZOFFSETFROM:+0100
TZOFFSETTO:+0200
TZNAME:CEST
DTSTART:20260329T010000
END:DAYLIGHT
BEGIN:STANDARD
TZOFFSETFROM:+0200
TZOFFSETTO:+0100
TZNAME:CET
DTSTART:20261025T010000
END:STANDARD
END:VTIMEZONE
BEGIN:VEVENT
DTSTART;TZID=Europe/Stockholm:20251101T080000
DTEND;TZID=Europe/Stockholm:20251102T170000
DTSTAMP:20260421T084758
CREATED:20250507T091640Z
LAST-MODIFIED:20250507T091641Z
UID:2251-1761984000-1762102800@orienteringsskytte.mangkampsforbundet.se
SUMMARY:World Cup Danish Cup
DESCRIPTION:Tävlingar Kolding i Danmark.lördag WC#11 DC#3 Klassisk distanssöndag WC# 12 DC#4 Sprint
URL:https://orienteringsskytte.mangkampsforbundet.se/kalender/world-cup-danish-cup-2/
END:VEVENT
BEGIN:VEVENT
DTSTART;TZID=Europe/Stockholm:20251123T100000
DTEND;TZID=Europe/Stockholm:20251123T150000
DTSTAMP:20260421T084758
CREATED:20250903T092240Z
LAST-MODIFIED:20251105T182943Z
UID:2420-1763892000-1763910000@orienteringsskytte.mangkampsforbundet.se
SUMMARY:MittiPrick Väst Höstavslutning
DESCRIPTION:MittiPrick Väst #2 och DM Väst OL skytte Sprint. \n\n\n\nÖrgryte skjutbana Kallebäck i Göteborg.
URL:https://orienteringsskytte.mangkampsforbundet.se/kalender/2420/
END:VEVENT
END:VCALENDAR