BEGIN:VCALENDAR
VERSION:2.0
PRODID:-//Orienteringsskytte - ECPv6.15.8//NONSGML v1.0//EN
CALSCALE:GREGORIAN
METHOD:PUBLISH
X-WR-CALNAME:Orienteringsskytte
X-ORIGINAL-URL:https://orienteringsskytte.mangkampsforbundet.se
X-WR-CALDESC:Events for Orienteringsskytte
REFRESH-INTERVAL;VALUE=DURATION:PT1H
X-Robots-Tag:noindex
X-PUBLISHED-TTL:PT1H
BEGIN:VTIMEZONE
TZID:Europe/Stockholm
BEGIN:DAYLIGHT
TZOFFSETFROM:+0100
TZOFFSETTO:+0200
TZNAME:CEST
DTSTART:20250330T010000
END:DAYLIGHT
BEGIN:STANDARD
TZOFFSETFROM:+0200
TZOFFSETTO:+0100
TZNAME:CET
DTSTART:20251026T010000
END:STANDARD
BEGIN:DAYLIGHT
TZOFFSETFROM:+0100
TZOFFSETTO:+0200
TZNAME:CEST
DTSTART:20260329T010000
END:DAYLIGHT
BEGIN:STANDARD
TZOFFSETFROM:+0200
TZOFFSETTO:+0100
TZNAME:CET
DTSTART:20261025T010000
END:STANDARD
BEGIN:DAYLIGHT
TZOFFSETFROM:+0100
TZOFFSETTO:+0200
TZNAME:CEST
DTSTART:20270328T010000
END:DAYLIGHT
BEGIN:STANDARD
TZOFFSETFROM:+0200
TZOFFSETTO:+0100
TZNAME:CET
DTSTART:20271031T010000
END:STANDARD
END:VTIMEZONE
BEGIN:VEVENT
DTSTART;TZID=Europe/Stockholm:20260509T090000
DTEND;TZID=Europe/Stockholm:20260510T140000
DTSTAMP:20260421T224349
CREATED:20260120T141125Z
LAST-MODIFIED:20260130T104852Z
UID:2645-1778317200-1778421600@orienteringsskytte.mangkampsforbundet.se
SUMMARY:SM Klassisk distans & Sprint\, Bergebo\, Borlänge
DESCRIPTION:SM Klassisk distans (lördag) och Sprint (söndag). Svenska cupen #1 och #2. \n\n\n\nPlats: Bergebo\, Borlänge. \n\n\n\nArrangörer: Dalregementets IF och Ornäs Skidskytte
URL:https://orienteringsskytte.mangkampsforbundet.se/kalender/sm-klassisk-distans-sprint/
END:VEVENT
BEGIN:VEVENT
DTSTART;TZID=Europe/Stockholm:20260516T090000
DTEND;TZID=Europe/Stockholm:20260517T140000
DTSTAMP:20260421T224349
CREATED:20260120T141437Z
LAST-MODIFIED:20260130T105130Z
UID:2647-1778922000-1779026400@orienteringsskytte.mangkampsforbundet.se
SUMMARY:FC Sprint & Klassisk distans\, Säkylä\, Finland
DESCRIPTION:Finska Mästerskapet Sprint (lördag) och Klassisk distans (söndag). Lapua Cup #1 och #2. \n\n\n\nPlats: Säkylä\, Finland
URL:https://orienteringsskytte.mangkampsforbundet.se/kalender/fc-sprint-klassisk/
END:VEVENT
BEGIN:VEVENT
DTSTART;TZID=Europe/Stockholm:20260523T090000
DTEND;TZID=Europe/Stockholm:20260524T140000
DTSTAMP:20260421T224349
CREATED:20260120T141755Z
LAST-MODIFIED:20260130T105820Z
UID:2649-1779526800-1779631200@orienteringsskytte.mangkampsforbundet.se
SUMMARY:WC Klassisk distans & Sprint\, Seinäjoki\, Finland
DESCRIPTION:Finska Mästerskapet Klassisk distans (lördag) och Sprint (söndag). WC #1 och #2\, LC #3 och LC #4. \n\n\n\nPlats: Seinäjoki\, Finland
URL:https://orienteringsskytte.mangkampsforbundet.se/kalender/wc-klassisk-distans-sprint/
END:VEVENT
BEGIN:VEVENT
DTSTART;TZID=Europe/Stockholm:20260530T090000
DTEND;TZID=Europe/Stockholm:20260531T130000
DTSTAMP:20260421T224349
CREATED:20260120T142318Z
LAST-MODIFIED:20260310T091957Z
UID:2651-1780131600-1780232400@orienteringsskytte.mangkampsforbundet.se
SUMMARY:WC Klassisk distans & SM Sprint\, Stockholm
DESCRIPTION:Klassisk distans (lördag) och SM Sprint (söndag). WC #3 och WC #4\, SC #3 och SC #4. \n\n\n\nMilitärlandskamp lördag – söndag. \n\n\n\nPlats: Stockholm\, Sverige. \n\n\n\nArrangör: IFK Tumba SOK
URL:https://orienteringsskytte.mangkampsforbundet.se/kalender/wc-klassisk-distans-sm-sprint/
END:VEVENT
END:VCALENDAR