BEGIN:VCALENDAR
VERSION:2.0
PRODID:-//Orienteringsskytte - ECPv6.15.8//NONSGML v1.0//EN
CALSCALE:GREGORIAN
METHOD:PUBLISH
X-ORIGINAL-URL:https://orienteringsskytte.mangkampsforbundet.se
X-WR-CALDESC:Events for Orienteringsskytte
REFRESH-INTERVAL;VALUE=DURATION:PT1H
X-Robots-Tag:noindex
X-PUBLISHED-TTL:PT1H
BEGIN:VTIMEZONE
TZID:Europe/Stockholm
BEGIN:DAYLIGHT
TZOFFSETFROM:+0100
TZOFFSETTO:+0200
TZNAME:CEST
DTSTART:20250330T010000
END:DAYLIGHT
BEGIN:STANDARD
TZOFFSETFROM:+0200
TZOFFSETTO:+0100
TZNAME:CET
DTSTART:20251026T010000
END:STANDARD
BEGIN:DAYLIGHT
TZOFFSETFROM:+0100
TZOFFSETTO:+0200
TZNAME:CEST
DTSTART:20260329T010000
END:DAYLIGHT
BEGIN:STANDARD
TZOFFSETFROM:+0200
TZOFFSETTO:+0100
TZNAME:CET
DTSTART:20261025T010000
END:STANDARD
BEGIN:DAYLIGHT
TZOFFSETFROM:+0100
TZOFFSETTO:+0200
TZNAME:CEST
DTSTART:20270328T010000
END:DAYLIGHT
BEGIN:STANDARD
TZOFFSETFROM:+0200
TZOFFSETTO:+0100
TZNAME:CET
DTSTART:20271031T010000
END:STANDARD
END:VTIMEZONE
BEGIN:VEVENT
DTSTART;TZID=Europe/Stockholm:20260603T170000
DTEND;TZID=Europe/Stockholm:20260603T200000
DTSTAMP:20260422T022027
CREATED:20260120T142504Z
LAST-MODIFIED:20260130T105943Z
UID:2653-1780506000-1780516800@orienteringsskytte.mangkampsforbundet.se
SUMMARY:Klassisk distans\, förkortad\, Älvsbyn
DESCRIPTION:Förkortad Klassisk distans\, på kvällstid. \n\n\n\nPlats: Älvsbyn\, Sverige
URL:https://orienteringsskytte.mangkampsforbundet.se/kalender/klassisk-distans-forkortad-3/
END:VEVENT
BEGIN:VEVENT
DTSTART;TZID=Europe/Stockholm:20260606T090000
DTEND;TZID=Europe/Stockholm:20260609T140000
DTSTAMP:20260422T022027
CREATED:20260120T142655Z
LAST-MODIFIED:20260130T110301Z
UID:2655-1780736400-1781013600@orienteringsskytte.mangkampsforbundet.se
SUMMARY:LC #5 och LC #6\, Jurva och Kurikka\, Finland
DESCRIPTION:RESUL-SM (lördag) och tävling söndag. \n\n\n\nPlats: Jurva och Kurikka\, Finland
URL:https://orienteringsskytte.mangkampsforbundet.se/kalender/lc-5-och-lc-6/
END:VEVENT
BEGIN:VEVENT
DTSTART;TZID=Europe/Stockholm:20260627T090000
DTEND;TZID=Europe/Stockholm:20260628T140000
DTSTAMP:20260422T022027
CREATED:20260120T143006Z
LAST-MODIFIED:20260130T110807Z
UID:2657-1782550800-1782655200@orienteringsskytte.mangkampsforbundet.se
SUMMARY:WC Klassisk distans och Sprint\, Holstebro\, Danmark
DESCRIPTION:Klassisk distans (lördag) och Sprint (söndag). WC #5 och #6\, DC #1 och #2.  \n\n\n\nPlats: Holstebro\, Danmark
URL:https://orienteringsskytte.mangkampsforbundet.se/kalender/wc-klassisk-distans-och-sprint/
END:VEVENT
END:VCALENDAR